BEGIN:VCALENDAR
VERSION:2.0
PRODID:-//Commune de Babadjou - ECPv6.15.20//NONSGML v1.0//EN
CALSCALE:GREGORIAN
METHOD:PUBLISH
X-WR-CALNAME:Commune de Babadjou
X-ORIGINAL-URL:https://communedebabadjou.cm
X-WR-CALDESC:Évènements pour Commune de Babadjou
REFRESH-INTERVAL;VALUE=DURATION:PT1H
X-Robots-Tag:noindex
X-PUBLISHED-TTL:PT1H
BEGIN:VTIMEZONE
TZID:Europe/Paris
BEGIN:DAYLIGHT
TZOFFSETFROM:+0100
TZOFFSETTO:+0200
TZNAME:CEST
DTSTART:20220327T010000
END:DAYLIGHT
BEGIN:STANDARD
TZOFFSETFROM:+0200
TZOFFSETTO:+0100
TZNAME:CET
DTSTART:20221030T010000
END:STANDARD
BEGIN:DAYLIGHT
TZOFFSETFROM:+0100
TZOFFSETTO:+0200
TZNAME:CEST
DTSTART:20230326T010000
END:DAYLIGHT
BEGIN:STANDARD
TZOFFSETFROM:+0200
TZOFFSETTO:+0100
TZNAME:CET
DTSTART:20231029T010000
END:STANDARD
BEGIN:DAYLIGHT
TZOFFSETFROM:+0100
TZOFFSETTO:+0200
TZNAME:CEST
DTSTART:20240331T010000
END:DAYLIGHT
BEGIN:STANDARD
TZOFFSETFROM:+0200
TZOFFSETTO:+0100
TZNAME:CET
DTSTART:20241027T010000
END:STANDARD
END:VTIMEZONE
BEGIN:VTIMEZONE
TZID:UTC
BEGIN:STANDARD
TZOFFSETFROM:+0000
TZOFFSETTO:+0000
TZNAME:UTC
DTSTART:20200101T000000
END:STANDARD
END:VTIMEZONE
BEGIN:VEVENT
DTSTART;TZID=Europe/Paris:20230520T000000
DTEND;TZID=Europe/Paris:20230520T235900
DTSTAMP:20260424T151025
CREATED:20230508T095402Z
LAST-MODIFIED:20230508T100545Z
UID:2242-1684540800-1684627140@communedebabadjou.cm
SUMMARY:51ème Edition de la Fête de l’Unité Nationale du Cameroun
DESCRIPTION:Le Cameroun va célébrer le 20 mai 2023\, la 51ème édition de son unité nationale. Dans un message porté\, le ministre directeur du Cabinet civil de la présidence de la République du Cameroun a rendu public\, le thème de cette année. \n« Forces de défense et peuple camerounais\, en symbiose pour la sauvegarde de la paix et de l’unité nationale\, socle d’un Cameroun fort et prospère »\, peut-on lire.
URL:https://communedebabadjou.cm/event/51eme-edition-de-la-fete-de-lunite-nationale-du-cameroun/
LOCATION:Babadjou\, Cameroun
CATEGORIES:A Venir,Evènements de la Commune
ATTACH;FMTTYPE=image/jpeg:https://communedebabadjou.cm/wp-content/uploads/2023/05/unite-nationale.jpg
END:VEVENT
BEGIN:VEVENT
DTSTART;TZID=UTC:20210528T150000
DTEND;TZID=UTC:20211231T163000
DTSTAMP:20260424T151025
CREATED:20210603T115136Z
LAST-MODIFIED:20230501T104943Z
UID:1213-1622214000-1640968200@communedebabadjou.cm
SUMMARY:Public Affairs & Public Safety Committee Meeting
DESCRIPTION:Event Overview\n\n\nCharms pleasure the moment blinded desires that they cannot foresee  bound claimduty obligations business it will frequently. \nRighteous indignations & dislikes men who are so beguiled demoralized by the charms pleasures the moment blinded desires that they cannot foresee to bound claim of duty the obligations business it occurs that pleasur rationaly encounter consequences that are extremely. \n+ Calendar
URL:https://communedebabadjou.cm/event/public-affairs-public-safety-committee-meeting-5/
LOCATION:Heaton Park\, Mt Road M25 2SW
CATEGORIES:Event List
END:VEVENT
BEGIN:VEVENT
DTSTART;TZID=UTC:20210528T150000
DTEND;TZID=UTC:20211231T163000
DTSTAMP:20260424T151025
CREATED:20210603T115130Z
LAST-MODIFIED:20230501T104943Z
UID:1212-1622214000-1640968200@communedebabadjou.cm
SUMMARY:Public Affairs & Public Safety Committee Meeting
DESCRIPTION:Event Overview\n\n\nCharms pleasure the moment blinded desires that they cannot foresee  bound claimduty obligations business it will frequently. \nRighteous indignations & dislikes men who are so beguiled demoralized by the charms pleasures the moment blinded desires that they cannot foresee to bound claim of duty the obligations business it occurs that pleasur rationaly encounter consequences that are extremely. \n+ Calendar
URL:https://communedebabadjou.cm/event/public-affairs-public-safety-committee-meeting-4/
LOCATION:Heaton Park\, Mt Road M25 2SW
CATEGORIES:Event List
END:VEVENT
BEGIN:VEVENT
DTSTART;TZID=UTC:20210528T150000
DTEND;TZID=UTC:20211231T163000
DTSTAMP:20260424T151025
CREATED:20210603T115049Z
LAST-MODIFIED:20230501T104943Z
UID:1207-1622214000-1640968200@communedebabadjou.cm
SUMMARY:Street San Antonio Sketches & Urban History
DESCRIPTION:Event Overview\n\n\nCharms pleasure the moment blinded desires that they cannot foresee  bound claimduty obligations business it will frequently. \nRighteous indignations & dislikes men who are so beguiled demoralized by the charms pleasures the moment blinded desires that they cannot foresee to bound claim of duty the obligations business it occurs that pleasur rationaly encounter consequences that are extremely. \n+ Calendar
URL:https://communedebabadjou.cm/event/street-san-antonio-sketches-urban-history-3/
LOCATION:Heaton Park\, Mt Road M25 2SW
CATEGORIES:Event List
END:VEVENT
BEGIN:VEVENT
DTSTART;TZID=UTC:20210528T150000
DTEND;TZID=UTC:20211231T163000
DTSTAMP:20260424T151025
CREATED:20210603T115028Z
LAST-MODIFIED:20230501T104943Z
UID:1208-1622214000-1640968200@communedebabadjou.cm
SUMMARY:Public Affairs & Public Safety Committee Meeting
DESCRIPTION:Event Overview\n\n\nCharms pleasure the moment blinded desires that they cannot foresee  bound claimduty obligations business it will frequently. \nRighteous indignations & dislikes men who are so beguiled demoralized by the charms pleasures the moment blinded desires that they cannot foresee to bound claim of duty the obligations business it occurs that pleasur rationaly encounter consequences that are extremely. \n+ Calendar
URL:https://communedebabadjou.cm/event/public-affairs-public-safety-committee-meeting-3/
LOCATION:Heaton Park\, Mt Road M25 2SW
CATEGORIES:Event List
END:VEVENT
BEGIN:VEVENT
DTSTART;TZID=UTC:20210528T150000
DTEND;TZID=UTC:20211231T163000
DTSTAMP:20260424T151025
CREATED:20210603T115017Z
LAST-MODIFIED:20230501T104943Z
UID:1206-1622214000-1640968200@communedebabadjou.cm
SUMMARY:Scating School holiday Program at San Antonio
DESCRIPTION:Event Overview\n\n\nCharms pleasure the moment blinded desires that they cannot foresee  bound claimduty obligations business it will frequently. \nRighteous indignations & dislikes men who are so beguiled demoralized by the charms pleasures the moment blinded desires that they cannot foresee to bound claim of duty the obligations business it occurs that pleasur rationaly encounter consequences that are extremely. \n+ Calendar
URL:https://communedebabadjou.cm/event/scating-school-holiday-program-at-san-antonio-3/
LOCATION:Heaton Park\, Mt Road M25 2SW
CATEGORIES:Event List
END:VEVENT
BEGIN:VEVENT
DTSTART;TZID=UTC:20210528T150000
DTEND;TZID=UTC:20211231T163000
DTSTAMP:20260424T151025
CREATED:20210603T095007Z
LAST-MODIFIED:20230501T104942Z
UID:1174-1622214000-1640968200@communedebabadjou.cm
SUMMARY:Street San Antonio Sketches & Urban History
DESCRIPTION:Event Overview\n\n\nCharms pleasure the moment blinded desires that they cannot foresee  bound claimduty obligations business it will frequently. \nRighteous indignations & dislikes men who are so beguiled demoralized by the charms pleasures the moment blinded desires that they cannot foresee to bound claim of duty the obligations business it occurs that pleasur rationaly encounter consequences that are extremely. \n+ Calendar
URL:https://communedebabadjou.cm/event/street-san-antonio-sketches-urban-history-2/
LOCATION:Heaton Park\, Mt Road M25 2SW
CATEGORIES:Events Grid
ATTACH;FMTTYPE=image/jpeg:https://communedebabadjou.cm/wp-content/uploads/2021/06/schedule-8.jpg
END:VEVENT
BEGIN:VEVENT
DTSTART;TZID=UTC:20210528T150000
DTEND;TZID=UTC:20211231T163000
DTSTAMP:20260424T151025
CREATED:20210603T094957Z
LAST-MODIFIED:20230501T104942Z
UID:1171-1622214000-1640968200@communedebabadjou.cm
SUMMARY:Public Affairs & Public Safety Committee Meeting
DESCRIPTION:Event Overview\n\n\nCharms pleasure the moment blinded desires that they cannot foresee  bound claimduty obligations business it will frequently. \nRighteous indignations & dislikes men who are so beguiled demoralized by the charms pleasures the moment blinded desires that they cannot foresee to bound claim of duty the obligations business it occurs that pleasur rationaly encounter consequences that are extremely. \n+ Calendar
URL:https://communedebabadjou.cm/event/public-affairs-public-safety-committee-meeting-2/
LOCATION:Heaton Park\, Mt Road M25 2SW
CATEGORIES:Events Grid
ATTACH;FMTTYPE=image/jpeg:https://communedebabadjou.cm/wp-content/uploads/2021/06/schedule-7.jpg
END:VEVENT
BEGIN:VEVENT
DTSTART;TZID=UTC:20210528T150000
DTEND;TZID=UTC:20211231T163000
DTSTAMP:20260424T151025
CREATED:20210603T094752Z
LAST-MODIFIED:20230501T104942Z
UID:1173-1622214000-1640968200@communedebabadjou.cm
SUMMARY:Scating School holiday Program at San Antonio
DESCRIPTION:Event Overview\n\n\nCharms pleasure the moment blinded desires that they cannot foresee  bound claimduty obligations business it will frequently. \nRighteous indignations & dislikes men who are so beguiled demoralized by the charms pleasures the moment blinded desires that they cannot foresee to bound claim of duty the obligations business it occurs that pleasur rationaly encounter consequences that are extremely. \n+ Calendar
URL:https://communedebabadjou.cm/event/scating-school-holiday-program-at-san-antonio-2/
LOCATION:Heaton Park\, Mt Road M25 2SW
CATEGORIES:Events Grid
ATTACH;FMTTYPE=image/jpeg:https://communedebabadjou.cm/wp-content/uploads/2021/06/schedule-6.jpg
END:VEVENT
BEGIN:VEVENT
DTSTART;TZID=UTC:20210528T150000
DTEND;TZID=UTC:20211231T163000
DTSTAMP:20260424T151025
CREATED:20210603T094736Z
LAST-MODIFIED:20230501T104942Z
UID:1172-1622214000-1640968200@communedebabadjou.cm
SUMMARY:Scating School holiday Program at San Antonio
DESCRIPTION:Event Overview\n\n\nCharms pleasure the moment blinded desires that they cannot foresee  bound claimduty obligations business it will frequently. \nRighteous indignations & dislikes men who are so beguiled demoralized by the charms pleasures the moment blinded desires that they cannot foresee to bound claim of duty the obligations business it occurs that pleasur rationaly encounter consequences that are extremely. \n+ Calendar
URL:https://communedebabadjou.cm/event/scating-school-holiday-program-at-san-antonio/
LOCATION:Heaton Park\, Mt Road M25 2SW
CATEGORIES:Events Grid
ATTACH;FMTTYPE=image/jpeg:https://communedebabadjou.cm/wp-content/uploads/2021/06/schedule-5.jpg
END:VEVENT
BEGIN:VEVENT
DTSTART;TZID=UTC:20210528T150000
DTEND;TZID=UTC:20211231T163000
DTSTAMP:20260424T151025
CREATED:20210603T094433Z
LAST-MODIFIED:20230501T104942Z
UID:1170-1622214000-1640968200@communedebabadjou.cm
SUMMARY:Street San Antonio Sketches & Urban History
DESCRIPTION:Event Overview\n\n\nCharms pleasure the moment blinded desires that they cannot foresee  bound claimduty obligations business it will frequently. \nRighteous indignations & dislikes men who are so beguiled demoralized by the charms pleasures the moment blinded desires that they cannot foresee to bound claim of duty the obligations business it occurs that pleasur rationaly encounter consequences that are extremely. \n+ Calendar
URL:https://communedebabadjou.cm/event/street-san-antonio-sketches-urban-history/
LOCATION:Heaton Park\, Mt Road M25 2SW
CATEGORIES:Events Grid
ATTACH;FMTTYPE=image/jpeg:https://communedebabadjou.cm/wp-content/uploads/2021/06/schedule-3.jpg
END:VEVENT
BEGIN:VEVENT
DTSTART;TZID=UTC:20210528T150000
DTEND;TZID=UTC:20211231T163000
DTSTAMP:20260424T151025
CREATED:20210528T172219Z
LAST-MODIFIED:20230501T104942Z
UID:338-1622214000-1640968200@communedebabadjou.cm
SUMMARY:Public Affairs and Public Safety Committee Meeting
DESCRIPTION:Event Overview\n\n\nCharms pleasure the moment blinded desires that they cannot foresee  bound claimduty obligations business it will frequently. \nRighteous indignations & dislikes men who are so beguiled demoralized by the charms pleasures the moment blinded desires that they cannot foresee to bound claim of duty the obligations business it occurs that pleasur rationaly encounter consequences that are extremely. \n+ Calendar
URL:https://communedebabadjou.cm/event/public-affairs-and-public-safety-committee-meeting-3/
LOCATION:Heaton Park\, Mt Road M25 2SW
CATEGORIES:Events
ATTACH;FMTTYPE=image/jpeg:https://communedebabadjou.cm/wp-content/uploads/2021/05/schedule-4.jpg
END:VEVENT
BEGIN:VEVENT
DTSTART;TZID=UTC:20210528T150000
DTEND;TZID=UTC:20211231T163000
DTSTAMP:20260424T151025
CREATED:20210528T172216Z
LAST-MODIFIED:20230501T104942Z
UID:339-1622214000-1640968200@communedebabadjou.cm
SUMMARY:Public Affairs and Public Safety Committee Meeting
DESCRIPTION:Event Overview\n\n\nCharms pleasure the moment blinded desires that they cannot foresee  bound claimduty obligations business it will frequently. \nRighteous indignations & dislikes men who are so beguiled demoralized by the charms pleasures the moment blinded desires that they cannot foresee to bound claim of duty the obligations business it occurs that pleasur rationaly encounter consequences that are extremely. \n+ Calendar
URL:https://communedebabadjou.cm/event/public-affairs-and-public-safety-committee-meeting-2/
LOCATION:182 St Georges Road\, San Antonio
CATEGORIES:Events
ATTACH;FMTTYPE=image/jpeg:https://communedebabadjou.cm/wp-content/uploads/2021/05/schedule-4.jpg
END:VEVENT
BEGIN:VEVENT
DTSTART;TZID=UTC:20210528T150000
DTEND;TZID=UTC:20211231T163000
DTSTAMP:20260424T151025
CREATED:20210528T095642Z
LAST-MODIFIED:20230501T104942Z
UID:318-1622214000-1640968200@communedebabadjou.cm
SUMMARY:Public Affairs and Public Safety Committee Meeting
DESCRIPTION:Event Overview\n\n\nCharms pleasure the moment blinded desires that they cannot foresee  bound claimduty obligations business it will frequently. \nRighteous indignations & dislikes men who are so beguiled demoralized by the charms pleasures the moment blinded desires that they cannot foresee to bound claim of duty the obligations business it occurs that pleasur rationaly encounter consequences that are extremely. \n+ Calendar
URL:https://communedebabadjou.cm/event/public-affairs-and-public-safety-committee-meeting/
LOCATION:Heaton Park\, Mt Road M25 2SW
CATEGORIES:Events
ATTACH;FMTTYPE=image/jpeg:https://communedebabadjou.cm/wp-content/uploads/2021/05/schedule-4.jpg
END:VEVENT
BEGIN:VEVENT
DTSTART;TZID=UTC:20210512T170000
DTEND;TZID=UTC:20211215T220000
DTSTAMP:20260424T151025
CREATED:20210603T094218Z
LAST-MODIFIED:20230501T104942Z
UID:1160-1620838800-1639605600@communedebabadjou.cm
SUMMARY:Public Affairs & Public Safety Committee Meeting
DESCRIPTION:Event Overview\n\n\nCharms pleasure the moment blinded desires that they cannot foresee  bound claimduty obligations business it will frequently. \nRighteous indignations & dislikes men who are so beguiled demoralized by the charms pleasures the moment blinded desires that they cannot foresee to bound claim of duty the obligations business it occurs that pleasur rationaly encounter consequences that are extremely. \n+ Calendar
URL:https://communedebabadjou.cm/event/public-affairs-public-safety-committee-meeting/
LOCATION:Heaton Park\, Mt Road M25 2SW
CATEGORIES:Events Grid
ATTACH;FMTTYPE=image/jpeg:https://communedebabadjou.cm/wp-content/uploads/2021/06/schedule-2.jpg
END:VEVENT
END:VCALENDAR